BEGIN:VCALENDAR
VERSION:2.0
PRODID:-//CERN//INDICO//EN
BEGIN:VEVENT
SUMMARY:KRECon 2024\, National Library of Technology\, Prague\, 14–15/11
 /2024
DTSTART;VALUE=DATE-TIME:20241114T080000Z
DTEND;VALUE=DATE-TIME:20241115T134500Z
DTSTAMP;VALUE=DATE-TIME:20260425T132948Z
UID:indico-event-8@indico.techlib.cz
DESCRIPTION:https://indico.techlib.cz/event/8/
LOCATION:NTK Balling Hall
URL:https://indico.techlib.cz/event/8/
END:VEVENT
END:VCALENDAR
