BEGIN:VCALENDAR
VERSION:2.0
PRODID:-//CERN//INDICO//EN
BEGIN:VEVENT
SUMMARY:Michal Pazour
DTSTART;VALUE=DATE-TIME:20241114T131000Z
DTEND;VALUE=DATE-TIME:20241114T133000Z
DTSTAMP;VALUE=DATE-TIME:20260425T201950Z
UID:indico-contribution-142@indico.techlib.cz
DESCRIPTION:Vedoucí Oddělení strategických studií Technologického ce
 ntra\n\nhttps://indico.techlib.cz/event/8/contributions/142/
LOCATION:NTK Balling Hall
URL:https://indico.techlib.cz/event/8/contributions/142/
END:VEVENT
END:VCALENDAR
