BEGIN:VCALENDAR
VERSION:2.0
PRODID:-//CERN//INDICO//EN
BEGIN:VEVENT
SUMMARY:Václav Velčovský
DTSTART;VALUE=DATE-TIME:20241114T125000Z
DTEND;VALUE=DATE-TIME:20241114T131000Z
DTSTAMP;VALUE=DATE-TIME:20260425T202123Z
UID:indico-contribution-141@indico.techlib.cz
DESCRIPTION:Vrchní ředitel sekce mezinárodních vztahů\, EU a ESIF\, M
 ŠMT\n\nhttps://indico.techlib.cz/event/8/contributions/141/
LOCATION:NTK Balling Hall
URL:https://indico.techlib.cz/event/8/contributions/141/
END:VEVENT
END:VCALENDAR
