BEGIN:VCALENDAR
VERSION:2.0
PRODID:-//CERN//INDICO//EN
BEGIN:VEVENT
SUMMARY:Martin Svoboda
DTSTART;VALUE=DATE-TIME:20241114T122000Z
DTEND;VALUE=DATE-TIME:20241114T123000Z
DTSTAMP;VALUE=DATE-TIME:20260425T202035Z
UID:indico-contribution-139@indico.techlib.cz
DESCRIPTION:ředitel Národní technické knihovny\n\nhttps://indico.techl
 ib.cz/event/8/contributions/139/
LOCATION:NTK Balling Hall
URL:https://indico.techlib.cz/event/8/contributions/139/
END:VEVENT
END:VCALENDAR
