BEGIN:VCALENDAR
VERSION:2.0
PRODID:-//CERN//INDICO//EN
BEGIN:VEVENT
SUMMARY:TBA
DTSTART;VALUE=DATE-TIME:20241114T121000Z
DTEND;VALUE=DATE-TIME:20241114T122000Z
DTSTAMP;VALUE=DATE-TIME:20260425T202054Z
UID:indico-contribution-138@indico.techlib.cz
DESCRIPTION:Ministerstvo školství\, mládeže a tělovýchovy\n\nhttps:/
 /indico.techlib.cz/event/8/contributions/138/
LOCATION:NTK Balling Hall
URL:https://indico.techlib.cz/event/8/contributions/138/
END:VEVENT
END:VCALENDAR
