BEGIN:VCALENDAR
VERSION:2.0
PRODID:-//CERN//INDICO//EN
BEGIN:VEVENT
SUMMARY:Conference Opening and Welcome
DTSTART;VALUE=DATE-TIME:20231109T120000Z
DTEND;VALUE=DATE-TIME:20231109T123000Z
DTSTAMP;VALUE=DATE-TIME:20260425T194017Z
UID:indico-event-58@indico.techlib.cz
DESCRIPTION:Martin Svoboda (Director of National Library of Technology)\nP
 avel Doleček (Deputy Minister for Science\, Research and Innovation)\nRad
 ka Wildová (Director General for Higher Education\, Science and Research 
 at the Ministry of Education\, Youth and Sports)\n\nModerator: \nGareth O'
 Neill (Principal Consultant on Open Science at Technopolis Group)\n\nhttps
 ://indico.techlib.cz/event/6/sessions/58/
LOCATION:NTK Balling Hall
URL:https://indico.techlib.cz/event/6/sessions/58/
END:VEVENT
END:VCALENDAR
