BEGIN:VCALENDAR
VERSION:2.0
PRODID:-//CERN//INDICO//EN
BEGIN:VEVENT
SUMMARY:Grant assessment: Lessons learned\, open questions and future dire
 ctions
DTSTART;VALUE=DATE-TIME:20231110T091500Z
DTEND;VALUE=DATE-TIME:20231110T093000Z
DTSTAMP;VALUE=DATE-TIME:20260425T223401Z
UID:indico-contribution-56-99@indico.techlib.cz
DESCRIPTION:Speaker: Petr Baldrian (President of Czech Science Foundation)
 \n\nhttps://indico.techlib.cz/event/6/contributions/99/
LOCATION:NTK Balling Hall
URL:https://indico.techlib.cz/event/6/contributions/99/
END:VEVENT
BEGIN:VEVENT
SUMMARY:Research grant assessment for sustainable researcher careers
DTSTART;VALUE=DATE-TIME:20231110T093000Z
DTEND;VALUE=DATE-TIME:20231110T094500Z
DTSTAMP;VALUE=DATE-TIME:20260425T223401Z
UID:indico-contribution-56-98@indico.techlib.cz
DESCRIPTION:Speaker: Sebastian Dahle (President of Eurodoc)\n\nhttps://ind
 ico.techlib.cz/event/6/contributions/98/
LOCATION:NTK Balling Hall
URL:https://indico.techlib.cz/event/6/contributions/98/
END:VEVENT
BEGIN:VEVENT
SUMMARY:Open Discussion
DTSTART;VALUE=DATE-TIME:20231110T094500Z
DTEND;VALUE=DATE-TIME:20231110T103000Z
DTSTAMP;VALUE=DATE-TIME:20260425T223401Z
UID:indico-contribution-56-103@indico.techlib.cz
DESCRIPTION:With speakers\, audience and invited quests: \nMartin Bunček 
 (Managing Director of Technology Agency of the Czech Republic) and\nJana K
 lánová (Director of RECETOX)\n\nhttps://indico.techlib.cz/event/6/contri
 butions/103/
LOCATION:NTK Balling Hall
URL:https://indico.techlib.cz/event/6/contributions/103/
END:VEVENT
BEGIN:VEVENT
SUMMARY:Research assessment in the transition to OS - national and funder 
 perspective
DTSTART;VALUE=DATE-TIME:20231110T090000Z
DTEND;VALUE=DATE-TIME:20231110T091500Z
DTSTAMP;VALUE=DATE-TIME:20260425T223401Z
UID:indico-contribution-56-100@indico.techlib.cz
DESCRIPTION:Speaker: Alina Irimia (OS Coordinator at Executive Agency for 
 Higher Education\, Research\, Development & Innovation in Romania)\n\nhttp
 s://indico.techlib.cz/event/6/contributions/100/
LOCATION:NTK Balling Hall
URL:https://indico.techlib.cz/event/6/contributions/100/
END:VEVENT
END:VCALENDAR
