BEGIN:VCALENDAR
VERSION:2.0
PRODID:-//CERN//INDICO//EN
BEGIN:VEVENT
SUMMARY:Panel Discussion
DTSTART;VALUE=DATE-TIME:20231110T110000Z
DTEND;VALUE=DATE-TIME:20231110T120000Z
DTSTAMP;VALUE=DATE-TIME:20260425T182623Z
UID:indico-event-55@indico.techlib.cz
DESCRIPTION:Clifford Tatum (Researcher at the Centre for Science and Techn
 ology Studies at Leiden University)\nReda Cimmperman (Scientific Secretary
  of the Research Council of Lithuania)\nMelita Kovačević (Professor at U
 niversity of Zagreb and Vice-Chair of PRIDE Network)\nLadislav Krištoufek
  (Vice-rector for Research at Charles University)\nJiří Homola (Vice-cha
 ir of Czech Research\, Development\, and Innovation Council)\nMartin Loebl
  (Vice-chair of Learned Society of the Czech Republic)\n\nhttps://indico.t
 echlib.cz/event/6/sessions/55/
LOCATION:NTK Balling Hall
URL:https://indico.techlib.cz/event/6/sessions/55/
END:VEVENT
END:VCALENDAR
