BEGIN:VCALENDAR
VERSION:2.0
PRODID:-//CERN//INDICO//EN
BEGIN:VEVENT
SUMMARY:Registration for Conference
DTSTART;VALUE=DATE-TIME:20231109T110000Z
DTEND;VALUE=DATE-TIME:20231110T090000Z
DTSTAMP;VALUE=DATE-TIME:20260425T211330Z
UID:indico-event-53@indico.techlib.cz
DESCRIPTION:https://indico.techlib.cz/event/6/sessions/53/
LOCATION:NTK Balling Hall
URL:https://indico.techlib.cz/event/6/sessions/53/
END:VEVENT
END:VCALENDAR
