BEGIN:VCALENDAR
VERSION:2.0
PRODID:-//CERN//INDICO//EN
BEGIN:VEVENT
SUMMARY:EURODOC workshop on Open Research Europe (ORE)
DTSTART;VALUE=DATE-TIME:20231109T090000Z
DTEND;VALUE=DATE-TIME:20231109T110000Z
DTSTAMP;VALUE=DATE-TIME:20260425T182633Z
UID:indico-contribution-48-134@indico.techlib.cz
DESCRIPTION:for early-career researchers (registration via Eurodoc)\n(Sam 
 Hall + Oleksandr Berezko)\n\nhttps://indico.techlib.cz/event/6/contributio
 ns/134/
LOCATION:NTK Educational Center
URL:https://indico.techlib.cz/event/6/contributions/134/
END:VEVENT
BEGIN:VEVENT
SUMMARY:OPUS workshop on reforming research(er) assessment
DTSTART;VALUE=DATE-TIME:20231109T090000Z
DTEND;VALUE=DATE-TIME:20231109T110000Z
DTSTAMP;VALUE=DATE-TIME:20260425T182633Z
UID:indico-contribution-48-135@indico.techlib.cz
DESCRIPTION:for researchers and leaders on researcher assessment\n(Gareth 
 O'Neill + Emma Day)\n\nhttps://indico.techlib.cz/event/6/contributions/135
 /
LOCATION:VŠCHT Praha Uhelna
URL:https://indico.techlib.cz/event/6/contributions/135/
END:VEVENT
BEGIN:VEVENT
SUMMARY:Workshop on Research productivity and the demands on PhD researche
 rs and supervisors
DTSTART;VALUE=DATE-TIME:20231109T090000Z
DTEND;VALUE=DATE-TIME:20231109T110000Z
DTSTAMP;VALUE=DATE-TIME:20260425T182633Z
UID:indico-contribution-48-132@indico.techlib.cz
DESCRIPTION:for experts/professionals in Doctoral Education\n( Melita Kova
 čević)\n\nhttps://indico.techlib.cz/event/6/contributions/132/
LOCATION:NTK Academic Lounge Alexandria
URL:https://indico.techlib.cz/event/6/contributions/132/
END:VEVENT
END:VCALENDAR
