BEGIN:VCALENDAR
VERSION:2.0
PRODID:-//CERN//INDICO//EN
BEGIN:VEVENT
SUMMARY:KRECon 2023\, National Library of Technology\, Prague\, 9-10. 11. 
 2023
DTSTART;VALUE=DATE-TIME:20231109T080000Z
DTEND;VALUE=DATE-TIME:20231110T134500Z
DTSTAMP;VALUE=DATE-TIME:20260425T160339Z
UID:indico-event-6@indico.techlib.cz
DESCRIPTION:https://indico.techlib.cz/event/6/
LOCATION:NTK Balling Hall
URL:https://indico.techlib.cz/event/6/
END:VEVENT
END:VCALENDAR
