BEGIN:VCALENDAR
VERSION:2.0
PRODID:-//CERN//INDICO//EN
BEGIN:VEVENT
SUMMARY:Closing remarks
DTSTART;VALUE=DATE-TIME:20231110T120000Z
DTEND;VALUE=DATE-TIME:20231110T121500Z
DTSTAMP;VALUE=DATE-TIME:20260425T183033Z
UID:indico-contribution-116@indico.techlib.cz
DESCRIPTION:https://indico.techlib.cz/event/6/contributions/116/
LOCATION:NTK Balling Hall
URL:https://indico.techlib.cz/event/6/contributions/116/
END:VEVENT
END:VCALENDAR
