BEGIN:VCALENDAR
VERSION:2.0
PRODID:-//CERN//INDICO//EN
BEGIN:VEVENT
SUMMARY:Open Discussion
DTSTART;VALUE=DATE-TIME:20231109T131500Z
DTEND;VALUE=DATE-TIME:20231109T140000Z
DTSTAMP;VALUE=DATE-TIME:20260425T235212Z
UID:indico-contribution-105@indico.techlib.cz
DESCRIPTION:With speakers\, audience and invited guests: \nPavel Doleček 
 (Deputy Minister for Science\, Research and Innovation) and \nŠárka Posp
 íšilová (Vice-rector for research and doctoral studies at Masaryk Unive
 rsity)\n\nhttps://indico.techlib.cz/event/6/contributions/105/
LOCATION:NTK Balling Hall
URL:https://indico.techlib.cz/event/6/contributions/105/
END:VEVENT
END:VCALENDAR
