BEGIN:VCALENDAR
VERSION:2.0
PRODID:-//CERN//INDICO//EN
BEGIN:VEVENT
SUMMARY:Open Discussion
DTSTART;VALUE=DATE-TIME:20231110T094500Z
DTEND;VALUE=DATE-TIME:20231110T103000Z
DTSTAMP;VALUE=DATE-TIME:20260425T211620Z
UID:indico-contribution-103@indico.techlib.cz
DESCRIPTION:With speakers\, audience and invited quests: \nMartin Bunček 
 (Managing Director of Technology Agency of the Czech Republic) and\nJana K
 lánová (Director of RECETOX)\n\nhttps://indico.techlib.cz/event/6/contri
 butions/103/
LOCATION:NTK Balling Hall
URL:https://indico.techlib.cz/event/6/contributions/103/
END:VEVENT
END:VCALENDAR
