BEGIN:VCALENDAR
VERSION:2.0
PRODID:-//CERN//INDICO//EN
BEGIN:VEVENT
SUMMARY:Reforming research assessment: Rationale\, progress made and role 
 of the European Commission
DTSTART;VALUE=DATE-TIME:20231109T123000Z
DTEND;VALUE=DATE-TIME:20231109T124500Z
DTSTAMP;VALUE=DATE-TIME:20260425T235430Z
UID:indico-contribution-101@indico.techlib.cz
DESCRIPTION:Speaker: Jean-Emmanuel Faure (Team Leader on Research Assessme
 nt at DG RTD\, European Commission)\n\nhttps://indico.techlib.cz/event/6/c
 ontributions/101/
LOCATION:NTK Balling Hall
URL:https://indico.techlib.cz/event/6/contributions/101/
END:VEVENT
END:VCALENDAR
