BEGIN:VCALENDAR
VERSION:2.0
PRODID:-//CERN//INDICO//EN
BEGIN:VEVENT
SUMMARY:Eurodoc meeting with Student Chamber of the Council of HEIs and Cz
 ech Association of Doctoral Researchers
DTSTART;VALUE=DATE-TIME:20221110T083000Z
DTEND;VALUE=DATE-TIME:20221110T110000Z
DTSTAMP;VALUE=DATE-TIME:20260425T195536Z
UID:indico-event-41@indico.techlib.cz
DESCRIPTION:Representatives of Eurodoc\, SK RVŠ and ČAD\n\nhttps://indic
 o.techlib.cz/event/5/sessions/41/
LOCATION:NTK PCO1
URL:https://indico.techlib.cz/event/5/sessions/41/
END:VEVENT
END:VCALENDAR
