BEGIN:VCALENDAR
VERSION:2.0
PRODID:-//CERN//INDICO//EN
BEGIN:VEVENT
SUMMARY:Panel Discussion
DTSTART;VALUE=DATE-TIME:20221111T110000Z
DTEND;VALUE=DATE-TIME:20221111T120000Z
DTSTAMP;VALUE=DATE-TIME:20260425T201436Z
UID:indico-event-40@indico.techlib.cz
DESCRIPTION:Maresi Nerad (Founding Director of CIRGE) \nAlexander Hasgall 
 (Head of EUA-CDE) \nNicola Dengo (General Board Member at Eurodoc)\nAllen 
 Weeks (Director General of ELI ERIC)\nJan Konvalinka (Director of IOCB Pra
 gue) \nKarolina Mahlerová (Chair of Committee for Doctoral Education at S
 K RVŠ)\nEva Hnátková (Open Science Coordinator at NTK and UCT Prague)\n
 \nhttps://indico.techlib.cz/event/5/sessions/40/
LOCATION:NTK Balling Hall
URL:https://indico.techlib.cz/event/5/sessions/40/
END:VEVENT
END:VCALENDAR
