BEGIN:VCALENDAR
VERSION:2.0
PRODID:-//CERN//INDICO//EN
BEGIN:VEVENT
SUMMARY:Conference Opening and Welcome
DTSTART;VALUE=DATE-TIME:20221110T121500Z
DTEND;VALUE=DATE-TIME:20221110T123000Z
DTSTAMP;VALUE=DATE-TIME:20260425T201445Z
UID:indico-event-29@indico.techlib.cz
DESCRIPTION:Martin Svoboda (Director of NTK)\nRadka Wildova (Czech Deputy 
 Minister for Higher Education\, Science and Research)\n\nModerator: \nGare
 th O'Neill (Principal Consultant on Open Science at Technopolis Group)\n\n
 https://indico.techlib.cz/event/5/sessions/29/
LOCATION:NTK Balling Hall
URL:https://indico.techlib.cz/event/5/sessions/29/
END:VEVENT
END:VCALENDAR
