BEGIN:VCALENDAR
VERSION:2.0
PRODID:-//CERN//INDICO//EN
BEGIN:VEVENT
SUMMARY:Registration for Pre-Conference Workshops and Eurodoc meeting
DTSTART;VALUE=DATE-TIME:20221110T080000Z
DTEND;VALUE=DATE-TIME:20221110T083000Z
DTSTAMP;VALUE=DATE-TIME:20260425T200648Z
UID:indico-event-25@indico.techlib.cz
DESCRIPTION:https://indico.techlib.cz/event/5/sessions/25/
LOCATION:NTK Vzdělávací centrum
URL:https://indico.techlib.cz/event/5/sessions/25/
END:VEVENT
END:VCALENDAR
