BEGIN:VCALENDAR
VERSION:2.0
PRODID:-//CERN//INDICO//EN
BEGIN:VEVENT
SUMMARY:Pre-Conference Workshops
DTSTART;VALUE=DATE-TIME:20221110T083000Z
DTEND;VALUE=DATE-TIME:20221110T093000Z
DTSTAMP;VALUE=DATE-TIME:20260425T183050Z
UID:indico-contribution-5-94@indico.techlib.cz
DESCRIPTION:https://indico.techlib.cz/event/5/contributions/94/
LOCATION:
URL:https://indico.techlib.cz/event/5/contributions/94/
END:VEVENT
BEGIN:VEVENT
SUMMARY:Closing remarks
DTSTART;VALUE=DATE-TIME:20221111T120000Z
DTEND;VALUE=DATE-TIME:20221111T121500Z
DTSTAMP;VALUE=DATE-TIME:20260425T183050Z
UID:indico-contribution-5-67@indico.techlib.cz
DESCRIPTION:https://indico.techlib.cz/event/5/contributions/67/
LOCATION:NTK Balling Hall
URL:https://indico.techlib.cz/event/5/contributions/67/
END:VEVENT
BEGIN:VEVENT
SUMMARY:Pre-Conference Workshops
DTSTART;VALUE=DATE-TIME:20221110T100000Z
DTEND;VALUE=DATE-TIME:20221110T110000Z
DTSTAMP;VALUE=DATE-TIME:20260425T183050Z
UID:indico-contribution-5-95@indico.techlib.cz
DESCRIPTION:https://indico.techlib.cz/event/5/contributions/95/
LOCATION:
URL:https://indico.techlib.cz/event/5/contributions/95/
END:VEVENT
BEGIN:VEVENT
SUMMARY:Early-Career Researcher’s Strategy and Implementation at UCL and
  Beyond
DTSTART;VALUE=DATE-TIME:20221110T125000Z
DTEND;VALUE=DATE-TIME:20221110T131000Z
DTSTAMP;VALUE=DATE-TIME:20260425T183050Z
UID:indico-contribution-5-83@indico.techlib.cz
DESCRIPTION:Speaker: David Bogle (Pro-Vice-Provost of Doctoral School at U
 niversity College London)\n\nhttps://indico.techlib.cz/event/5/contributio
 ns/83/
LOCATION:NTK Balling Hall
URL:https://indico.techlib.cz/event/5/contributions/83/
END:VEVENT
BEGIN:VEVENT
SUMMARY:Towards a European framework for research careers
DTSTART;VALUE=DATE-TIME:20221110T143000Z
DTEND;VALUE=DATE-TIME:20221110T145000Z
DTSTAMP;VALUE=DATE-TIME:20260425T183050Z
UID:indico-contribution-5-86@indico.techlib.cz
DESCRIPTION:Speaker: Dario Capezzuto (Policy officer at European Commissio
 n DG  RTD\, R&I Actors and Research Careers)\n\nhttps://indico.techlib.cz/
 event/5/contributions/86/
LOCATION:NTK Balling Hall
URL:https://indico.techlib.cz/event/5/contributions/86/
END:VEVENT
BEGIN:VEVENT
SUMMARY:Open Discussion
DTSTART;VALUE=DATE-TIME:20221110T133000Z
DTEND;VALUE=DATE-TIME:20221110T140000Z
DTSTAMP;VALUE=DATE-TIME:20260425T183050Z
UID:indico-contribution-5-85@indico.techlib.cz
DESCRIPTION:with speakers and audience\n\nhttps://indico.techlib.cz/event/
 5/contributions/85/
LOCATION:NTK Balling Hall
URL:https://indico.techlib.cz/event/5/contributions/85/
END:VEVENT
BEGIN:VEVENT
SUMMARY:Open Discussion
DTSTART;VALUE=DATE-TIME:20221110T153000Z
DTEND;VALUE=DATE-TIME:20221110T160000Z
DTSTAMP;VALUE=DATE-TIME:20260425T183050Z
UID:indico-contribution-5-89@indico.techlib.cz
DESCRIPTION:with speakers and audience\n\nhttps://indico.techlib.cz/event/
 5/contributions/89/
LOCATION:NTK Balling Hall
URL:https://indico.techlib.cz/event/5/contributions/89/
END:VEVENT
BEGIN:VEVENT
SUMMARY:Open Discussion
DTSTART;VALUE=DATE-TIME:20221111T100000Z
DTEND;VALUE=DATE-TIME:20221111T103000Z
DTSTAMP;VALUE=DATE-TIME:20260425T183050Z
UID:indico-contribution-5-93@indico.techlib.cz
DESCRIPTION:with speakers and audience\n\nhttps://indico.techlib.cz/event/
 5/contributions/93/
LOCATION:NTK Balling Hall
URL:https://indico.techlib.cz/event/5/contributions/93/
END:VEVENT
BEGIN:VEVENT
SUMMARY:Research mobility and career perspectives for early-career researc
 hers
DTSTART;VALUE=DATE-TIME:20221110T145000Z
DTEND;VALUE=DATE-TIME:20221110T151000Z
DTSTAMP;VALUE=DATE-TIME:20260425T183050Z
UID:indico-contribution-5-87@indico.techlib.cz
DESCRIPTION:Speaker: Giulia Malaguarnera (Secretary of Marie Curie Alumni 
 Association)\n\nhttps://indico.techlib.cz/event/5/contributions/87/
LOCATION:NTK Balling Hall
URL:https://indico.techlib.cz/event/5/contributions/87/
END:VEVENT
BEGIN:VEVENT
SUMMARY:Doctoral Education today: What challenges are we still facing?
DTSTART;VALUE=DATE-TIME:20221110T123000Z
DTEND;VALUE=DATE-TIME:20221110T125000Z
DTSTAMP;VALUE=DATE-TIME:20260425T183050Z
UID:indico-contribution-5-82@indico.techlib.cz
DESCRIPTION:Speaker: Melita Kovačević (Vice-Chair of PRIDE Network)\n\nh
 ttps://indico.techlib.cz/event/5/contributions/82/
LOCATION:NTK Balling Hall
URL:https://indico.techlib.cz/event/5/contributions/82/
END:VEVENT
BEGIN:VEVENT
SUMMARY:Why Doctoral Schools lead to better outcomes for PhD graduates
DTSTART;VALUE=DATE-TIME:20221111T090000Z
DTEND;VALUE=DATE-TIME:20221111T092000Z
DTSTAMP;VALUE=DATE-TIME:20260425T183050Z
UID:indico-contribution-5-90@indico.techlib.cz
DESCRIPTION:Speaker: Conor O'Carroll (Founder and Director of SciPol Servi
 ces Ltd)\n\nhttps://indico.techlib.cz/event/5/contributions/90/
LOCATION:NTK Balling Hall
URL:https://indico.techlib.cz/event/5/contributions/90/
END:VEVENT
BEGIN:VEVENT
SUMMARY:Contributing to a culture of effective doctoral supervision
DTSTART;VALUE=DATE-TIME:20221111T092000Z
DTEND;VALUE=DATE-TIME:20221111T094000Z
DTSTAMP;VALUE=DATE-TIME:20260425T183050Z
UID:indico-contribution-5-91@indico.techlib.cz
DESCRIPTION:Speaker: Lucas Zinner (Chair of PRIDE Network)\n\nhttps://indi
 co.techlib.cz/event/5/contributions/91/
LOCATION:NTK Balling Hall
URL:https://indico.techlib.cz/event/5/contributions/91/
END:VEVENT
BEGIN:VEVENT
SUMMARY:Towards systematic skills development for Czech doctoral candidate
 s
DTSTART;VALUE=DATE-TIME:20221111T094000Z
DTEND;VALUE=DATE-TIME:20221111T100000Z
DTSTAMP;VALUE=DATE-TIME:20260425T183050Z
UID:indico-contribution-5-92@indico.techlib.cz
DESCRIPTION:Speaker: Stephanie Krueger (Senior Consultant for academic ser
 vices at NTK)\n\nhttps://indico.techlib.cz/event/5/contributions/92/
LOCATION:NTK Balling Hall
URL:https://indico.techlib.cz/event/5/contributions/92/
END:VEVENT
BEGIN:VEVENT
SUMMARY:Results of DocEnhance career tracking survey of PhD graduates
DTSTART;VALUE=DATE-TIME:20221110T151000Z
DTEND;VALUE=DATE-TIME:20221110T153000Z
DTSTAMP;VALUE=DATE-TIME:20260425T183050Z
UID:indico-contribution-5-88@indico.techlib.cz
DESCRIPTION:Speaker: Pavel Matějka (Rector of UCT Prague)\n\nhttps://indi
 co.techlib.cz/event/5/contributions/88/
LOCATION:NTK Balling Hall
URL:https://indico.techlib.cz/event/5/contributions/88/
END:VEVENT
BEGIN:VEVENT
SUMMARY:Czech Research-Intensive Universities and their Perspective on Doc
 toral Schools
DTSTART;VALUE=DATE-TIME:20221110T131000Z
DTEND;VALUE=DATE-TIME:20221110T133000Z
DTSTAMP;VALUE=DATE-TIME:20260425T183050Z
UID:indico-contribution-5-84@indico.techlib.cz
DESCRIPTION:Speaker: Pavel Doleček (Vice-Rector for Strategic Cooperation
  and Development at Charles University)\n\nhttps://indico.techlib.cz/event
 /5/contributions/84/
LOCATION:NTK Balling Hall
URL:https://indico.techlib.cz/event/5/contributions/84/
END:VEVENT
END:VCALENDAR
