BEGIN:VCALENDAR
VERSION:2.0
PRODID:-//CERN//INDICO//EN
BEGIN:VEVENT
SUMMARY:Open Discussion
DTSTART;VALUE=DATE-TIME:20221111T100000Z
DTEND;VALUE=DATE-TIME:20221111T103000Z
DTSTAMP;VALUE=DATE-TIME:20260425T213440Z
UID:indico-contribution-93@indico.techlib.cz
DESCRIPTION:with speakers and audience\n\nhttps://indico.techlib.cz/event/
 5/contributions/93/
LOCATION:NTK Balling Hall
URL:https://indico.techlib.cz/event/5/contributions/93/
END:VEVENT
END:VCALENDAR
