BEGIN:VCALENDAR
VERSION:2.0
PRODID:-//CERN//INDICO//EN
BEGIN:VEVENT
SUMMARY:Contributing to a culture of effective doctoral supervision
DTSTART;VALUE=DATE-TIME:20221111T092000Z
DTEND;VALUE=DATE-TIME:20221111T094000Z
DTSTAMP;VALUE=DATE-TIME:20260425T213629Z
UID:indico-contribution-91@indico.techlib.cz
DESCRIPTION:Speaker: Lucas Zinner (Chair of PRIDE Network)\n\nhttps://indi
 co.techlib.cz/event/5/contributions/91/
LOCATION:NTK Balling Hall
URL:https://indico.techlib.cz/event/5/contributions/91/
END:VEVENT
END:VCALENDAR
