BEGIN:VCALENDAR
VERSION:2.0
PRODID:-//CERN//INDICO//EN
BEGIN:VEVENT
SUMMARY:Open Discussion
DTSTART;VALUE=DATE-TIME:20221110T153000Z
DTEND;VALUE=DATE-TIME:20221110T160000Z
DTSTAMP;VALUE=DATE-TIME:20260426T001735Z
UID:indico-contribution-89@indico.techlib.cz
DESCRIPTION:with speakers and audience\n\nhttps://indico.techlib.cz/event/
 5/contributions/89/
LOCATION:NTK Balling Hall
URL:https://indico.techlib.cz/event/5/contributions/89/
END:VEVENT
END:VCALENDAR
