BEGIN:VCALENDAR
VERSION:2.0
PRODID:-//CERN//INDICO//EN
BEGIN:VEVENT
SUMMARY:Results of DocEnhance career tracking survey of PhD graduates
DTSTART;VALUE=DATE-TIME:20221110T151000Z
DTEND;VALUE=DATE-TIME:20221110T153000Z
DTSTAMP;VALUE=DATE-TIME:20260425T213612Z
UID:indico-contribution-88@indico.techlib.cz
DESCRIPTION:Speaker: Pavel Matějka (Rector of UCT Prague)\n\nhttps://indi
 co.techlib.cz/event/5/contributions/88/
LOCATION:NTK Balling Hall
URL:https://indico.techlib.cz/event/5/contributions/88/
END:VEVENT
END:VCALENDAR
