BEGIN:VCALENDAR
VERSION:2.0
PRODID:-//CERN//INDICO//EN
BEGIN:VEVENT
SUMMARY:Early-Career Researcher’s Strategy and Implementation at UCL and
  Beyond
DTSTART;VALUE=DATE-TIME:20221110T125000Z
DTEND;VALUE=DATE-TIME:20221110T131000Z
DTSTAMP;VALUE=DATE-TIME:20260425T230047Z
UID:indico-contribution-83@indico.techlib.cz
DESCRIPTION:Speaker: David Bogle (Pro-Vice-Provost of Doctoral School at U
 niversity College London)\n\nhttps://indico.techlib.cz/event/5/contributio
 ns/83/
LOCATION:NTK Balling Hall
URL:https://indico.techlib.cz/event/5/contributions/83/
END:VEVENT
END:VCALENDAR
