BEGIN:VCALENDAR
VERSION:2.0
PRODID:-//CERN//INDICO//EN
BEGIN:VEVENT
SUMMARY:Doctoral Education today: What challenges are we still facing?
DTSTART;VALUE=DATE-TIME:20221110T123000Z
DTEND;VALUE=DATE-TIME:20221110T125000Z
DTSTAMP;VALUE=DATE-TIME:20260425T225758Z
UID:indico-contribution-82@indico.techlib.cz
DESCRIPTION:Speaker: Melita Kovačević (Vice-Chair of PRIDE Network)\n\nh
 ttps://indico.techlib.cz/event/5/contributions/82/
LOCATION:NTK Balling Hall
URL:https://indico.techlib.cz/event/5/contributions/82/
END:VEVENT
END:VCALENDAR
