BEGIN:VCALENDAR
VERSION:2.0
PRODID:-//CERN//INDICO//EN
BEGIN:VEVENT
SUMMARY:Closing remarks
DTSTART;VALUE=DATE-TIME:20221111T120000Z
DTEND;VALUE=DATE-TIME:20221111T121500Z
DTSTAMP;VALUE=DATE-TIME:20260425T195315Z
UID:indico-contribution-67@indico.techlib.cz
DESCRIPTION:https://indico.techlib.cz/event/5/contributions/67/
LOCATION:NTK Balling Hall
URL:https://indico.techlib.cz/event/5/contributions/67/
END:VEVENT
END:VCALENDAR
