BEGIN:VCALENDAR
VERSION:2.0
PRODID:-//CERN//INDICO//EN
BEGIN:VEVENT
SUMMARY:Workshop: Open Science for Early Career Researchers
DTSTART;VALUE=DATE-TIME:20211111T090000Z
DTEND;VALUE=DATE-TIME:20211111T110000Z
DTSTAMP;VALUE=DATE-TIME:20260425T235851Z
UID:indico-event-23@indico.techlib.cz
DESCRIPTION:Oleksandr Berezko (Coordinator of Eurodoc Open Science Ambassa
 dors)\nGiulia Malagurnera (Former president of Eurodoc)\n\nhttps://indico.
 techlib.cz/event/4/sessions/23/
LOCATION:NTK Noční studovna
URL:https://indico.techlib.cz/event/4/sessions/23/
END:VEVENT
END:VCALENDAR
