BEGIN:VCALENDAR
VERSION:2.0
PRODID:-//CERN//INDICO//EN
BEGIN:VEVENT
SUMMARY:Conference Opening and Welcome
DTSTART;VALUE=DATE-TIME:20211111T120000Z
DTEND;VALUE=DATE-TIME:20211111T123000Z
DTSTAMP;VALUE=DATE-TIME:20260425T225243Z
UID:indico-event-22@indico.techlib.cz
DESCRIPTION:Martin Svoboda (Director of NTK)\n\nhttps://indico.techlib.cz/
 event/4/sessions/22/
LOCATION:NTK Balling Hall
URL:https://indico.techlib.cz/event/4/sessions/22/
END:VEVENT
END:VCALENDAR
