BEGIN:VCALENDAR
VERSION:2.0
PRODID:-//CERN//INDICO//EN
BEGIN:VEVENT
SUMMARY:Registration of Conference participants
DTSTART;VALUE=DATE-TIME:20211111T110000Z
DTEND;VALUE=DATE-TIME:20211111T120000Z
DTSTAMP;VALUE=DATE-TIME:20260425T224721Z
UID:indico-event-20@indico.techlib.cz
DESCRIPTION:https://indico.techlib.cz/event/4/sessions/20/
LOCATION:NTK Balling Hall
URL:https://indico.techlib.cz/event/4/sessions/20/
END:VEVENT
END:VCALENDAR
