BEGIN:VCALENDAR
VERSION:2.0
PRODID:-//CERN//INDICO//EN
BEGIN:VEVENT
SUMMARY:Closing Remarks
DTSTART;VALUE=DATE-TIME:20211112T113000Z
DTEND;VALUE=DATE-TIME:20211112T114500Z
DTSTAMP;VALUE=DATE-TIME:20260426T000416Z
UID:indico-event-19@indico.techlib.cz
DESCRIPTION:https://indico.techlib.cz/event/4/sessions/19/
LOCATION:NTK Balling Hall
URL:https://indico.techlib.cz/event/4/sessions/19/
END:VEVENT
END:VCALENDAR
