BEGIN:VCALENDAR
VERSION:2.0
PRODID:-//CERN//INDICO//EN
BEGIN:VEVENT
SUMMARY:Otevřená věda v Národní strategii pro VaVaI 2021+ / Open Scie
 nce in the National R&D&I Strategy 2021+
DTSTART;VALUE=DATE-TIME:20211112T090000Z
DTEND;VALUE=DATE-TIME:20211112T092000Z
DTSTAMP;VALUE=DATE-TIME:20260426T000735Z
UID:indico-contribution-17-49@indico.techlib.cz
DESCRIPTION:Speakers: Marián Hajdúch (R&D&I Council)\nhttps://indico.tec
 hlib.cz/event/4/contributions/49/
LOCATION:NTK Balling Hall
URL:https://indico.techlib.cz/event/4/contributions/49/
END:VEVENT
BEGIN:VEVENT
SUMMARY:EOSC Implementační architektura v České republice / EOSC Imple
 mentation Architecture in the Czech Republic
DTSTART;VALUE=DATE-TIME:20211112T084000Z
DTEND;VALUE=DATE-TIME:20211112T090000Z
DTSTAMP;VALUE=DATE-TIME:20260426T000735Z
UID:indico-contribution-17-48@indico.techlib.cz
DESCRIPTION:Speakers: Luděk Matyska (MUNI/CESNET)\nhttps://indico.techlib
 .cz/event/4/contributions/48/
LOCATION:NTK Balling Hall
URL:https://indico.techlib.cz/event/4/contributions/48/
END:VEVENT
BEGIN:VEVENT
SUMMARY:Shrnutí prvního dne / Summary of Day One
DTSTART;VALUE=DATE-TIME:20211112T080000Z
DTEND;VALUE=DATE-TIME:20211112T082000Z
DTSTAMP;VALUE=DATE-TIME:20260426T000735Z
UID:indico-contribution-17-46@indico.techlib.cz
DESCRIPTION:Speakers: Eva Hnátková (Open Science Coordinator at NTK)\nht
 tps://indico.techlib.cz/event/4/contributions/46/
LOCATION:NTK Balling Hall
URL:https://indico.techlib.cz/event/4/contributions/46/
END:VEVENT
BEGIN:VEVENT
SUMMARY:Pohled na otevřenou vědu v českém prostředí / Reflection of 
 Open Science in the Czech Landscape
DTSTART;VALUE=DATE-TIME:20211112T082000Z
DTEND;VALUE=DATE-TIME:20211112T084000Z
DTSTAMP;VALUE=DATE-TIME:20260426T000735Z
UID:indico-contribution-17-47@indico.techlib.cz
DESCRIPTION:Speakers: Pavel Doleček (Deputy minister for Research and HE 
 at MEYS)\nhttps://indico.techlib.cz/event/4/contributions/47/
LOCATION:NTK Balling Hall
URL:https://indico.techlib.cz/event/4/contributions/47/
END:VEVENT
END:VCALENDAR
