BEGIN:VCALENDAR
VERSION:2.0
PRODID:-//CERN//INDICO//EN
BEGIN:VEVENT
SUMMARY:Registration of Workshop participants
DTSTART;VALUE=DATE-TIME:20211111T080000Z
DTEND;VALUE=DATE-TIME:20211111T090000Z
DTSTAMP;VALUE=DATE-TIME:20260425T225138Z
UID:indico-event-14@indico.techlib.cz
DESCRIPTION:https://indico.techlib.cz/event/4/sessions/14/
LOCATION:NTK Vzdělávací centrum
URL:https://indico.techlib.cz/event/4/sessions/14/
END:VEVENT
END:VCALENDAR
