BEGIN:VCALENDAR
VERSION:2.0
PRODID:-//CERN//INDICO//EN
BEGIN:VEVENT
SUMMARY:Open Discussion
DTSTART;VALUE=DATE-TIME:20211111T131500Z
DTEND;VALUE=DATE-TIME:20211111T140000Z
DTSTAMP;VALUE=DATE-TIME:20260426T001527Z
UID:indico-contribution-58@indico.techlib.cz
DESCRIPTION:Open Discussion with speakers invited guests (J. Konvalinka\, 
 T. Kostelecký) and audience\n\nhttps://indico.techlib.cz/event/4/contribu
 tions/58/
LOCATION:NTK Balling Hall
URL:https://indico.techlib.cz/event/4/contributions/58/
END:VEVENT
END:VCALENDAR
