BEGIN:VCALENDAR
VERSION:2.0
PRODID:-//CERN//INDICO//EN
BEGIN:VEVENT
SUMMARY:Plan S - Hard Road to Open Access
DTSTART;VALUE=DATE-TIME:20211111T124500Z
DTEND;VALUE=DATE-TIME:20211111T130000Z
DTSTAMP;VALUE=DATE-TIME:20260426T012836Z
UID:indico-contribution-56@indico.techlib.cz
DESCRIPTION:Speakers: Johan Rooryck (Executive Director at cOAlition S)\nh
 ttps://indico.techlib.cz/event/4/contributions/56/
LOCATION:NTK Balling Hall
URL:https://indico.techlib.cz/event/4/contributions/56/
END:VEVENT
END:VCALENDAR
