BEGIN:VCALENDAR
VERSION:2.0
PRODID:-//CERN//INDICO//EN
BEGIN:VEVENT
SUMMARY:Social events
DTSTART;VALUE=DATE-TIME:20191107T161500Z
DTEND;VALUE=DATE-TIME:20191107T200000Z
DTSTAMP;VALUE=DATE-TIME:20260425T201628Z
UID:indico-event-6@indico.techlib.cz
DESCRIPTION:https://indico.techlib.cz/event/1/sessions/6/
LOCATION:NTK
URL:https://indico.techlib.cz/event/1/sessions/6/
END:VEVENT
END:VCALENDAR
