BEGIN:VCALENDAR
VERSION:2.0
PRODID:-//CERN//INDICO//EN
BEGIN:VEVENT
SUMMARY:VIP
DTSTART;VALUE=DATE-TIME:20191107T090000Z
DTEND;VALUE=DATE-TIME:20191107T110000Z
DTSTAMP;VALUE=DATE-TIME:20260425T185148Z
UID:indico-event-3@indico.techlib.cz
DESCRIPTION:https://indico.techlib.cz/event/1/sessions/3/
LOCATION:NTK Gallery
URL:https://indico.techlib.cz/event/1/sessions/3/
END:VEVENT
END:VCALENDAR
