BEGIN:VCALENDAR
VERSION:2.0
PRODID:-//CERN//INDICO//EN
BEGIN:VEVENT
SUMMARY:Eurodoc workshop
DTSTART;VALUE=DATE-TIME:20191107T080000Z
DTEND;VALUE=DATE-TIME:20191107T110000Z
DTSTAMP;VALUE=DATE-TIME:20260425T173114Z
UID:indico-event-2@indico.techlib.cz
DESCRIPTION:Open Science aims to open up the whole research process and gi
 ve access to the outcomes of research activities. This workshop will expla
 in the concept of Open Science and look at some key Open Science practices
  such as Open Access\, Open Peer Review\, Open/FAIR Data\, and Citizen Sci
 ence.\nWorkshop is led by Gareth O´Neill\, Ambassador for Plan S to cOAli
 tion S and former EURODOC President.\n\nEurodoc Open Science Ambassador Tr
 aining - Webinars with experts\nhttp://eurodoc.net/ambassadors\n\nEurodoc 
 Open Science - Collection of articles\nhttp://www.eurodoc.net/open-science
 \n\nhttps://indico.techlib.cz/event/1/sessions/2/
LOCATION:NTK PC02
URL:https://indico.techlib.cz/event/1/sessions/2/
END:VEVENT
END:VCALENDAR
