BEGIN:VCALENDAR
VERSION:2.0
PRODID:-//CERN//INDICO//EN
BEGIN:VEVENT
SUMMARY:Příběh OA: úvod do situace v ČR / Story of OA: Introduction t
 o To-day‘s Position of OA in CR
DTSTART;VALUE=DATE-TIME:20191108T080000Z
DTEND;VALUE=DATE-TIME:20191108T083000Z
DTSTAMP;VALUE=DATE-TIME:20260425T173455Z
UID:indico-contribution-9@indico.techlib.cz
DESCRIPTION:Speakers: Martin Svoboda (NTK)\nhttps://indico.techlib.cz/even
 t/1/contributions/9/
LOCATION:NTK
URL:https://indico.techlib.cz/event/1/contributions/9/
END:VEVENT
END:VCALENDAR
