BEGIN:VCALENDAR
VERSION:2.0
PRODID:-//CERN//INDICO//EN
BEGIN:VEVENT
SUMMARY:Discussion\, Conslusions
DTSTART;VALUE=DATE-TIME:20191107T153000Z
DTEND;VALUE=DATE-TIME:20191107T160000Z
DTSTAMP;VALUE=DATE-TIME:20260425T173506Z
UID:indico-contribution-8@indico.techlib.cz
DESCRIPTION:Speakers: Markus Dettenhofer (CEITEC)\nhttps://indico.techlib.
 cz/event/1/contributions/8/
LOCATION:NTK
URL:https://indico.techlib.cz/event/1/contributions/8/
END:VEVENT
END:VCALENDAR
