BEGIN:VCALENDAR
VERSION:2.0
PRODID:-//CERN//INDICO//EN
BEGIN:VEVENT
SUMMARY:Open Access and Plan S for Researchers
DTSTART;VALUE=DATE-TIME:20191107T150500Z
DTEND;VALUE=DATE-TIME:20191107T153000Z
DTSTAMP;VALUE=DATE-TIME:20260425T173420Z
UID:indico-contribution-7@indico.techlib.cz
DESCRIPTION:Speakers: Gareth O'Neill (EOSC\, cOAlition S)\nA coalition of 
 national research funders in Europe has recently set funding criteria that
  all research publications should be issued in full and immediate Open Acc
 ess. This talk will explore the details of this 'Plan S' and how researche
 rs can comply with Plan S and actively get involved in Open Access.\n\nhtt
 ps://indico.techlib.cz/event/1/contributions/7/
LOCATION:NTK
URL:https://indico.techlib.cz/event/1/contributions/7/
END:VEVENT
END:VCALENDAR
