BEGIN:VCALENDAR
VERSION:2.0
PRODID:-//CERN//INDICO//EN
BEGIN:VEVENT
SUMMARY:Open Access – A Scientist´s Perspective
DTSTART;VALUE=DATE-TIME:20191107T144000Z
DTEND;VALUE=DATE-TIME:20191107T150500Z
DTSTAMP;VALUE=DATE-TIME:20260425T185730Z
UID:indico-contribution-6@indico.techlib.cz
DESCRIPTION:Speakers: Peter H. Seeberger (Max-Planck-Institute of Colloids
  and Interfaces Department of Biomolecular System\, Freie Universität Ber
 lin)\nProf. Dr. Peter H. Seeberger will discuss open access and its implic
 ations on publishing from the scientists perspective. As a chemist and bio
 chemist who directs a department of 90 coworkers as well as the editor-in-
 chief of the platinum open access journal “Beilstein Journal for Organic
  Chemistry” he can offer different perspectives.\n\nhttps://indico.techl
 ib.cz/event/1/contributions/6/
LOCATION:NTK
URL:https://indico.techlib.cz/event/1/contributions/6/
END:VEVENT
END:VCALENDAR
