BEGIN:VCALENDAR
VERSION:2.0
PRODID:-//CERN//INDICO//EN
BEGIN:VEVENT
SUMMARY:Open Access at Charles University - Opportunities and Challenges
DTSTART;VALUE=DATE-TIME:20191107T135500Z
DTEND;VALUE=DATE-TIME:20191107T142000Z
DTSTAMP;VALUE=DATE-TIME:20260425T173724Z
UID:indico-contribution-5@indico.techlib.cz
DESCRIPTION:Speakers: Jan Konvalinka (UK)\nhttps://indico.techlib.cz/event
 /1/contributions/5/
LOCATION:NTK
URL:https://indico.techlib.cz/event/1/contributions/5/
END:VEVENT
END:VCALENDAR
