BEGIN:VCALENDAR
VERSION:2.0
PRODID:-//CERN//INDICO//EN
BEGIN:VEVENT
SUMMARY:Towards Open Science: Challenges and Ways Forward for European Uni
 versities
DTSTART;VALUE=DATE-TIME:20191107T125000Z
DTEND;VALUE=DATE-TIME:20191107T131500Z
DTSTAMP;VALUE=DATE-TIME:20260425T173638Z
UID:indico-contribution-3@indico.techlib.cz
DESCRIPTION:Speakers: Jean-Pierre Finance  (EUA)\nProfessor Jean-Pierre Fi
 nance\, Chair of the EUA Science2.0/Open Science Expert Group\, will expla
 in EUA approach towards Open Science by bringing together first-hand infor
 mation and experience from three main areas: 1) Open Access policies (univ
 ersities through EUA’s survey on Open Science - data from 500 universiti
 es\; research councils – through Plan S)\; 2) financial aspects\, throug
 h its survey on "Big Deals" (data from 31 National Consortia) and Publish&
 Read Project\; 3) research assessment for research careers (briefing). EUA
  implements its Roadmaps on Open Access (2016) and on Research Assessment 
 (2018) in close collaboration with its ad-hoc groups: Expert Group on Scie
 nce 2.0/Open Science\, the High-Level Group on Big Deals and the Negotiato
 rs Group. EUA develops strategic positions\, surveys and workshops which a
 re becoming a reference for universities and in the framework of the EC Op
 en Science Policy Platform (OSPP).\n\nhttps://indico.techlib.cz/event/1/co
 ntributions/3/
LOCATION:NTK
URL:https://indico.techlib.cz/event/1/contributions/3/
END:VEVENT
END:VCALENDAR
