BEGIN:VCALENDAR
VERSION:2.0
PRODID:-//CERN//INDICO//EN
BEGIN:VEVENT
SUMMARY:Registration of Conference participants
DTSTART;VALUE=DATE-TIME:20191107T110000Z
DTEND;VALUE=DATE-TIME:20191107T120000Z
DTSTAMP;VALUE=DATE-TIME:20260425T185801Z
UID:indico-contribution-20@indico.techlib.cz
DESCRIPTION:https://indico.techlib.cz/event/1/contributions/20/
LOCATION:NTK
URL:https://indico.techlib.cz/event/1/contributions/20/
END:VEVENT
END:VCALENDAR
