BEGIN:VCALENDAR
VERSION:2.0
PRODID:-//CERN//INDICO//EN
BEGIN:VEVENT
SUMMARY:First working day end
DTSTART;VALUE=DATE-TIME:20191107T160000Z
DTEND;VALUE=DATE-TIME:20191107T161500Z
DTSTAMP;VALUE=DATE-TIME:20260425T174436Z
UID:indico-contribution-17@indico.techlib.cz
DESCRIPTION:https://indico.techlib.cz/event/1/contributions/17/
LOCATION:NTK
URL:https://indico.techlib.cz/event/1/contributions/17/
END:VEVENT
END:VCALENDAR
