BEGIN:VCALENDAR
VERSION:2.0
PRODID:-//CERN//INDICO//EN
BEGIN:VEVENT
SUMMARY:Akční plán k Národní strategii OA\, Národní politika VaVaI 
 2021+ / Action Plan to National Strategy to OA\, National R&D&I Policy 202
 1+
DTSTART;VALUE=DATE-TIME:20191108T085000Z
DTEND;VALUE=DATE-TIME:20191108T091000Z
DTSTAMP;VALUE=DATE-TIME:20260425T173521Z
UID:indico-contribution-13@indico.techlib.cz
DESCRIPTION:Speakers: Pavel Doleček (MŠMT)\, Petr Dvořák (RVVI)\nhttps
 ://indico.techlib.cz/event/1/contributions/13/
LOCATION:NTK
URL:https://indico.techlib.cz/event/1/contributions/13/
END:VEVENT
END:VCALENDAR
