BEGIN:VCALENDAR
VERSION:2.0
PRODID:-//CERN//INDICO//EN
BEGIN:VEVENT
SUMMARY:Závěr / Closing remarks
DTSTART;VALUE=DATE-TIME:20191108T110000Z
DTEND;VALUE=DATE-TIME:20191108T111500Z
DTSTAMP;VALUE=DATE-TIME:20260425T174409Z
UID:indico-contribution-12@indico.techlib.cz
DESCRIPTION:https://indico.techlib.cz/event/1/contributions/12/
LOCATION:NTK
URL:https://indico.techlib.cz/event/1/contributions/12/
END:VEVENT
END:VCALENDAR
