BEGIN:VCALENDAR
VERSION:2.0
PRODID:-//CERN//INDICO//EN
BEGIN:VEVENT
SUMMARY:Panelová diskuze - hledání rovnováhy / Panel discussion - Seek
 ing Balance
DTSTART;VALUE=DATE-TIME:20191108T094000Z
DTEND;VALUE=DATE-TIME:20191108T110000Z
DTSTAMP;VALUE=DATE-TIME:20260425T173607Z
UID:indico-contribution-11@indico.techlib.cz
DESCRIPTION:Speakers: Aleš Vlk (TERI)\nhttps://indico.techlib.cz/event/1/
 contributions/11/
LOCATION:NTK
URL:https://indico.techlib.cz/event/1/contributions/11/
END:VEVENT
END:VCALENDAR
