BEGIN:VCALENDAR
VERSION:2.0
PRODID:-//CERN//INDICO//EN
BEGIN:VEVENT
SUMMARY:Shrnutí prvního dne / Summary of Day One
DTSTART;VALUE=DATE-TIME:20191108T083000Z
DTEND;VALUE=DATE-TIME:20191108T085000Z
DTSTAMP;VALUE=DATE-TIME:20260425T173901Z
UID:indico-contribution-10@indico.techlib.cz
DESCRIPTION:Speakers: Eva Hnátková (Eurodoc)\nhttps://indico.techlib.cz/
 event/1/contributions/10/
LOCATION:NTK
URL:https://indico.techlib.cz/event/1/contributions/10/
END:VEVENT
END:VCALENDAR
